BEGIN:VCALENDAR
VERSION:2.0
PRODID:-//Turlock Regional Aviation Association - ECPv6.0.11//NONSGML v1.0//EN
CALSCALE:GREGORIAN
METHOD:PUBLISH
X-WR-CALNAME:Turlock Regional Aviation Association
X-ORIGINAL-URL:https://turlockregionalaviationassociation.com
X-WR-CALDESC:Events for Turlock Regional Aviation Association
REFRESH-INTERVAL;VALUE=DURATION:PT1H
X-Robots-Tag:noindex
X-PUBLISHED-TTL:PT1H
BEGIN:VTIMEZONE
TZID:UTC
BEGIN:STANDARD
TZOFFSETFROM:+0000
TZOFFSETTO:+0000
TZNAME:UTC
DTSTART:20230101T000000
END:STANDARD
END:VTIMEZONE
BEGIN:VEVENT
DTSTART;TZID=UTC:20230510T180000
DTEND;TZID=UTC:20230510T190000
DTSTAMP:20260422T021756
CREATED:20230324T225218Z
LAST-MODIFIED:20230508T202134Z
UID:1495-1683741600-1683745200@turlockregionalaviationassociation.com
SUMMARY:Board Meeting
DESCRIPTION:TRAA Agenda_10May2023
URL:https://turlockregionalaviationassociation.com/event/board-meeting-2/
LOCATION:Pilot Lounge at O15\, 13604 Newport Road\, Ballico\, CA\, 95303\, United States
END:VEVENT
BEGIN:VEVENT
DTSTART;TZID=UTC:20230527T090000
DTEND;TZID=UTC:20230527T130000
DTSTAMP:20260422T021756
CREATED:20230423T163827Z
LAST-MODIFIED:20230423T164452Z
UID:1817-1685178000-1685192400@turlockregionalaviationassociation.com
SUMMARY:Airport Appreciation Day
DESCRIPTION:For further information\, contact Rodney @ 209-595-7783
URL:https://turlockregionalaviationassociation.com/event/airport-appreciation-day-2/
END:VEVENT
END:VCALENDAR