BEGIN:VCALENDAR
VERSION:2.0
PRODID:-//Turlock Regional Aviation Association - ECPv6.0.11//NONSGML v1.0//EN
CALSCALE:GREGORIAN
METHOD:PUBLISH
X-ORIGINAL-URL:https://turlockregionalaviationassociation.com
X-WR-CALDESC:Events for Turlock Regional Aviation Association
REFRESH-INTERVAL;VALUE=DURATION:PT1H
X-Robots-Tag:noindex
X-PUBLISHED-TTL:PT1H
BEGIN:VTIMEZONE
TZID:UTC
BEGIN:STANDARD
TZOFFSETFROM:+0000
TZOFFSETTO:+0000
TZNAME:UTC
DTSTART:20230101T000000
END:STANDARD
END:VTIMEZONE
BEGIN:VEVENT
DTSTART;TZID=UTC:20230809T180000
DTEND;TZID=UTC:20230809T190000
DTSTAMP:20260421T231312
CREATED:20230712T174149Z
LAST-MODIFIED:20230808T215741Z
UID:1891-1691604000-1691607600@turlockregionalaviationassociation.com
SUMMARY:Board Meeting
DESCRIPTION:TRAA Agenda_9August2023 (002) \nYoung Eagles 2023 Information \nAirport Layout \nYoung Eagles Flight Path_8Aug2023_DRAFT
URL:https://turlockregionalaviationassociation.com/event/board-meeting-6/
END:VEVENT
END:VCALENDAR